BEGIN:VCALENDAR
VERSION:2.0
PRODID:-//MUSIC CICS//Tech Conference//EN
CALSCALE:GREGORIAN
METHOD:PUBLISH
BEGIN:VEVENT
DTSTART:20260418T150000Z
DTEND:20260418T200000Z
SUMMARY:Tech Conference — Future of Computing
DESCRIPTION:Computing for the Common Good. Keynotes\, panels\, and networking.\n\nKeynote Speakers: Wayne Duso\, Bob Sproull\nPanelists: Sean Horgan\, Jonah O'Brien Weiss\, Preet Mehta\n\nHosted by MUSIC x Manning CICS
LOCATION:Computer Science Laboratories\, UMass Amherst
STATUS:CONFIRMED
ORGANIZER;CN=MUSIC CICS:mailto:music@umass.edu
END:VEVENT
END:VCALENDAR
